BEGIN:VCALENDAR
VERSION:2.0
PRODID:-//ActiveBury//Events//EN
CALSCALE:GREGORIAN
BEGIN:VEVENT
UID:event-1234@activebury.com
DTSTAMP:20260425T133943Z
SUMMARY:Cruisin' Ocean City
DTSTART;VALUE=DATE:20260430
DTEND;VALUE=DATE:20260504
DESCRIPTION:Cruise on down to Ocean City Maryland for the 35th Annual Cruisin' Ocean City\, April 30 - May 3\, 2026. This event will feature over 3\,000 hot rods\,...\nMore info: https://www.ococean.com/event/cruisin-ocean-city/2616/\nActiveBury: https://www.activebury.com/events/1234
URL:https://www.activebury.com/events/1234
END:VEVENT
END:VCALENDAR
