BEGIN:VCALENDAR
VERSION:2.0
PRODID:-//ActiveBury//Events//EN
CALSCALE:GREGORIAN
BEGIN:VEVENT
UID:event-1233@activebury.com
DTSTAMP:20260425T163831Z
SUMMARY:Are You Ready for it? A Taylor Swift Experience
DTSTART;VALUE=DATE:20260425
DTEND;VALUE=DATE:20260426
LOCATION:Ocean City Performing Arts Center | 4001 Coastal Hwy Convention Center - Ocean City\, MD\, 21801
DESCRIPTION:Taylor Swift is one of Billboard’s greatest artists of all time and the only performer to win the Grammy for Album of the Year four times. Her global...\nMore info: https://www.ococean.com/event/are-you-ready-for-it%3f-a-taylor-swift-experience/2553/\nActiveBury: https://www.activebury.com/events/1233
URL:https://www.activebury.com/events/1233
END:VEVENT
END:VCALENDAR
