BEGIN:VCALENDAR
VERSION:2.0
PRODID:-//ActiveBury//Events//EN
CALSCALE:GREGORIAN
BEGIN:VEVENT
UID:event-1231@activebury.com
DTSTAMP:20260425T134009Z
SUMMARY:Toddler Time at the Museum
DTSTART;VALUE=DATE:20260313
DTEND;VALUE=DATE:20260314
LOCATION:Delmarva Discovery Center & Museum | 2 Market Street - Pocomoke\, MD\, 21851
DESCRIPTION:Enjoy an early opening for children ages 0-5 and their families. Normal admission rates apply. Learn more here:...\nMore info: https://www.ococean.com/event/toddler-time-at-the-museum/2646/\nActiveBury: https://www.activebury.com/events/1231
URL:https://www.activebury.com/events/1231
END:VEVENT
END:VCALENDAR
