BEGIN:VCALENDAR
VERSION:2.0
PRODID:-//ActiveBury//Events//EN
CALSCALE:GREGORIAN
BEGIN:VEVENT
UID:event-1230@activebury.com
DTSTAMP:20260425T182855Z
SUMMARY:St. Patrick's Weekend
DTSTART;VALUE=DATE:20260313
DTEND;VALUE=DATE:20260318
LOCATION:Bourbon Street on the Beach | 12601 Coastal Hw - Ocean City\, MD\, 21842
DESCRIPTION:Celebrate all weekend long at Bourbon Street on the Beach! Food Specials! Drink Specials! The best music scene in OC! Join us!\nMore info: https://www.ococean.com/event/st-patricks-weekend/2637/\nActiveBury: https://www.activebury.com/events/1230
URL:https://www.activebury.com/events/1230
END:VEVENT
END:VCALENDAR
