BEGIN:VCALENDAR
VERSION:2.0
PRODID:-//ActiveBury//Events//EN
CALSCALE:GREGORIAN
BEGIN:VEVENT
UID:event-1229@activebury.com
DTSTAMP:20260425T133414Z
SUMMARY:St. Patrick's Soccer Tournament
DTSTART;VALUE=DATE:20260314
DTEND;VALUE=DATE:20260316
LOCATION:Northside Park Recreation Complex | 200 125th Street\, Ocean City\, MD 21842 (125th Street & Jamaica Avenue\, Bayside) - Ocean City\, MD\, 21842
DESCRIPTION:The tradition continues with Men's\, Women's\, and Co-Rec divisions! Get your team registered for the 38th annual St. Patrick's Day Soccer Tournament!...\nMore info: https://www.ococean.com/event/st-patricks-soccer-tournament/1250/\nActiveBury: https://www.activebury.com/events/1229
URL:https://www.activebury.com/events/1229
END:VEVENT
END:VCALENDAR
