BEGIN:VCALENDAR
VERSION:2.0
PRODID:-//ActiveBury//Events//EN
CALSCALE:GREGORIAN
BEGIN:VEVENT
UID:event-1228@activebury.com
DTSTAMP:20260425T133949Z
SUMMARY:St. Patrick's Day with Jimmy Charles Band
DTSTART;VALUE=DATE:20260317
DTEND;VALUE=DATE:20260318
LOCATION:Bourbon Street on the Beach | 12601 Coastal Hw - Ocean City\, MD\, 21842
DESCRIPTION:Don't miss Jimmy Charles with his full band- Fiddle-Saxophone with special guests: Ocean City Pipes and Drums Food special: Corned beef and cabbage...\nMore info: https://www.ococean.com/event/st-patricks-day-with-jimmy-charles-band/2638/\nActiveBury: https://www.activebury.com/events/1228
URL:https://www.activebury.com/events/1228
END:VEVENT
END:VCALENDAR
