BEGIN:VCALENDAR
VERSION:2.0
PRODID:-//ActiveBury//Events//EN
CALSCALE:GREGORIAN
BEGIN:VEVENT
UID:event-1227@activebury.com
DTSTAMP:20260425T133434Z
SUMMARY:St. Patrick's Day Parade
DTSTART;VALUE=DATE:20260314
DTEND;VALUE=DATE:20260315
LOCATION:45th Street Ocean City\, MD | 45th Street - Ocean City\, MD\, 21842
DESCRIPTION:Sponsored by the Delmarva Irish-American Club The 2026 St. Patrick's Day Parade will take place on Saturday\, March 14th. It begins at 60th Street and...\nMore info: https://www.ococean.com/event/st-patricks-day-parade/2605/\nActiveBury: https://www.activebury.com/events/1227
URL:https://www.activebury.com/events/1227
END:VEVENT
END:VCALENDAR
