BEGIN:VCALENDAR
VERSION:2.0
PRODID:-//ActiveBury//Events//EN
CALSCALE:GREGORIAN
BEGIN:VEVENT
UID:event-1226@activebury.com
DTSTAMP:20260425T133438Z
SUMMARY:St. Patrick's Day 5K
DTSTART;VALUE=DATE:20260314
DTEND;VALUE=DATE:20260315
LOCATION:4th Street & Boardwalk - MD
DESCRIPTION:The 5k race will start on the OCMD boardwalk on 4th Street at 9:00 am directly behind Shenanigans Irish Pub. Same rules as last year. Exact start and...\nMore info: https://www.ococean.com/event/st-patricks-day-5k/2664/\nActiveBury: https://www.activebury.com/events/1226
URL:https://www.activebury.com/events/1226
END:VEVENT
END:VCALENDAR
