BEGIN:VCALENDAR
VERSION:2.0
PRODID:-//ActiveBury//Events//EN
CALSCALE:GREGORIAN
BEGIN:VEVENT
UID:event-1225@activebury.com
DTSTAMP:20260425T133438Z
SUMMARY:Saint Patrick's Bingo
DTSTART;VALUE=DATE:20260317
DTEND;VALUE=DATE:20260318
LOCATION:Northside Park Community Room | 200 125th Street\, Ocean City\, MD 21842 (125th Street & Jamaica Avenue\, Bayside) - Ocean City\, MD\, 21842
DESCRIPTION:Get ready to embrace the luck of the Irish! Pull out your favorite green attire and join us for a festive and spirited afternoon of Senior St....\nMore info: https://www.ococean.com/event/saint-patricks-bingo/2465/\nActiveBury: https://www.activebury.com/events/1225
URL:https://www.activebury.com/events/1225
END:VEVENT
END:VCALENDAR
