BEGIN:VCALENDAR
VERSION:2.0
PRODID:-//ActiveBury//Events//EN
CALSCALE:GREGORIAN
BEGIN:VEVENT
UID:event-1224@activebury.com
DTSTAMP:20260425T134007Z
SUMMARY:Ocean City St. Patrick's Day Events 2026
DTSTART;VALUE=DATE:20260313
DTEND;VALUE=DATE:20260314
DESCRIPTION:Get your St. Patrick’s Day night sorted in Ocean City. This collection lists every crawl\, the venue lineup\, and the tickets so you can lock it in...\nMore info: https://www.ococean.com/event/ocean-city-st-patricks-day-events-2026/2650/\nActiveBury: https://www.activebury.com/events/1224
URL:https://www.activebury.com/events/1224
END:VEVENT
END:VCALENDAR
