BEGIN:VCALENDAR
VERSION:2.0
PRODID:-//ActiveBury//Events//EN
CALSCALE:GREGORIAN
BEGIN:VEVENT
UID:event-1222@activebury.com
DTSTAMP:20260425T152942Z
SUMMARY:Hadestown
DTSTART;VALUE=DATE:20260304
DTEND;VALUE=DATE:20260305
LOCATION:Ocean City Performing Arts Center | 4001 Coastal Hwy Convention Center - Ocean City\, MD\, 21842
DESCRIPTION:Welcome to HADESTOWN\, where a song can change your fate. Winner of eight 2019 Tony Awards® including Best Musical and the 2020 Grammy® Award for Best...\nMore info: https://www.ococean.com/event/hadestown/2390/\nActiveBury: https://www.activebury.com/events/1222
URL:https://www.activebury.com/events/1222
END:VEVENT
END:VCALENDAR
