BEGIN:VCALENDAR
VERSION:2.0
PRODID:-//ActiveBury//Events//EN
CALSCALE:GREGORIAN
BEGIN:VEVENT
UID:event-1221@activebury.com
DTSTAMP:20260425T164153Z
SUMMARY:Bus Trip to Smithsonian American Art Museum
DTSTART;VALUE=DATE:20260330
DTEND;VALUE=DATE:20260331
LOCATION:Art League of Ocean City Center for the Arts | 502 94th St. - Ocean City\, MD\, 21842
DESCRIPTION:Join us for a special day trip to the Smithsonian American Art Museum to experience Grandma Moses: A Good Day’s Work \, a captivating exhibition that...\nMore info: https://www.ococean.com/event/bus-trip-to-smithsonian-american-art-museum/2630/\nActiveBury: https://www.activebury.com/events/1221
URL:https://www.activebury.com/events/1221
END:VEVENT
END:VCALENDAR
