BEGIN:VCALENDAR
VERSION:2.0
PRODID:-//ActiveBury//Events//EN
CALSCALE:GREGORIAN
BEGIN:VEVENT
UID:event-1220@activebury.com
DTSTAMP:20260425T133439Z
SUMMARY:BrewGrass
DTSTART;VALUE=DATE:20260328
DTEND;VALUE=DATE:20260329
LOCATION:Fager's Island | 201 60th Street 60th St. on the Bay - Ocean City\, MD\, 21842
DESCRIPTION:The 14th Annual Fager's Island BrewGrass Event March 28\, 2026 from 12 noon - 4pm Bluegrass\, Craft Beer\, Oysters & Southern Style BBQ on the bay in...\nMore info: https://www.ococean.com/event/brewgrass/2651/\nActiveBury: https://www.activebury.com/events/1220
URL:https://www.activebury.com/events/1220
END:VEVENT
END:VCALENDAR
