BEGIN:VCALENDAR
VERSION:2.0
PRODID:-//ActiveBury//Events//EN
CALSCALE:GREGORIAN
BEGIN:VEVENT
UID:event-1219@activebury.com
DTSTAMP:20260425T133953Z
SUMMARY:10th Annual Ocean City Film Festival
DTSTART;VALUE=DATE:20260305
DTEND;VALUE=DATE:20260309
LOCATION:Art League of Ocean City Center for the Arts | 502 94th St. - Ocean City\, MD\, 21842
DESCRIPTION:The Art League of Ocean City is proud to present OC’s 10th Annual Ocean City Film Festival\, showcasing new films by regional and international...\nMore info: https://www.ococean.com/event/10th-annual-ocean-city-film-festival/2624/\nActiveBury: https://www.activebury.com/events/1219
URL:https://www.activebury.com/events/1219
END:VEVENT
END:VCALENDAR
