BEGIN:VCALENDAR
VERSION:2.0
PRODID:-//ActiveBury//Events//EN
CALSCALE:GREGORIAN
BEGIN:VEVENT
UID:event-1218@activebury.com
DTSTAMP:20260425T133958Z
SUMMARY:Tots- To - Teens: Fossils
DTSTART;VALUE=DATE:20260228
DTEND;VALUE=DATE:20260301
LOCATION:Delmarva Discovery Center & Museum | 2 Market Street - Pocomoke\, MD\, 21851
DESCRIPTION:The Delmarva Discovery Museum is hosting Tots- To- Teens on February 28th at 11 AM &amp\; 1 PM. Enjoy learning about paleontologists\, how fossils are...\nMore info: https://www.ococean.com/event/tots-to-teens%3a-fossils/2594/\nActiveBury: https://www.activebury.com/events/1218
URL:https://www.activebury.com/events/1218
END:VEVENT
END:VCALENDAR
