BEGIN:VCALENDAR
VERSION:2.0
PRODID:-//ActiveBury//Events//EN
CALSCALE:GREGORIAN
BEGIN:VEVENT
UID:event-1217@activebury.com
DTSTAMP:20260425T134536Z
SUMMARY:Scorchy's Corner Movie Series
DTSTART;VALUE=DATE:20260204
DTEND;VALUE=DATE:20260305
LOCATION:OC Life-Saving Station Museum | 217 S Baltimore Ave
DESCRIPTION:The Museum Society of Ocean City is pleased to announce a special five-week video series featuring Scorchy’s Corner: Wandering Our Delmarvalous Land\,...\nMore info: https://www.ococean.com/event/scorchys-corner-movie-series/2597/\nActiveBury: https://www.activebury.com/events/1217
URL:https://www.activebury.com/events/1217
END:VEVENT
END:VCALENDAR
