BEGIN:VCALENDAR
VERSION:2.0
PRODID:-//ActiveBury//Events//EN
CALSCALE:GREGORIAN
BEGIN:VEVENT
UID:event-1216@activebury.com
DTSTAMP:20260425T133426Z
SUMMARY:Pancake Breakfast
DTSTART;VALUE=DATE:20260226
DTEND;VALUE=DATE:20260227
LOCATION:Ocean City Development Corporation | 108 Dorchester Street - Ocean City\, MD\, 21842
DESCRIPTION:All you can eat pancakes\, sausage\, coffee\, tea\, soda only $8 Children under 8 FREE Dough Roller on the Boardwalk at N. Divisioon Street. 30 minute...\nMore info: https://www.ococean.com/event/pancake-breakfast/2666/\nActiveBury: https://www.activebury.com/events/1216
URL:https://www.activebury.com/events/1216
END:VEVENT
END:VCALENDAR
