BEGIN:VCALENDAR
VERSION:2.0
PRODID:-//ActiveBury//Events//EN
CALSCALE:GREGORIAN
BEGIN:VEVENT
UID:event-1215@activebury.com
DTSTAMP:20260425T133437Z
SUMMARY:History & Highballs
DTSTART;VALUE=DATE:20260227
DTEND;VALUE=DATE:20260228
LOCATION:Snow Hill\, Maryland | 208 West Market Street - Snow Hill\, MD\, 21863
DESCRIPTION:Step back in time and raise a glass at History and Highballs\, a special series of private tours showcasing some of Snow Hill’s most remarkable...\nMore info: https://www.ococean.com/event/history-%26-highballs/2645/\nActiveBury: https://www.activebury.com/events/1215
URL:https://www.activebury.com/events/1215
END:VEVENT
END:VCALENDAR
