BEGIN:VCALENDAR
VERSION:2.0
PRODID:-//ActiveBury//Events//EN
CALSCALE:GREGORIAN
BEGIN:VEVENT
UID:event-1214@activebury.com
DTSTAMP:20260425T133435Z
SUMMARY:Bourbon Dinner
DTSTART;VALUE=DATE:20260226
DTEND;VALUE=DATE:20260227
LOCATION:32 Palm | 32nd Street - Ocean City\, 21842
DESCRIPTION:Join us for an immersive\, five-course Bourbon Cocktail Dinner designed to delight both bourbon lovers and culinary adventurers alike. Each course is...\nMore info: https://www.ococean.com/event/bourbon-dinner/2658/\nActiveBury: https://www.activebury.com/events/1214
URL:https://www.activebury.com/events/1214
END:VEVENT
END:VCALENDAR
