BEGIN:VCALENDAR
VERSION:2.0
PRODID:-//ActiveBury//Events//EN
CALSCALE:GREGORIAN
BEGIN:VEVENT
UID:event-1213@activebury.com
DTSTAMP:20260425T133745Z
SUMMARY:The Hub SBY - Jam Session (Vol. 2)
DTSTART;VALUE=DATE:20260515
DTEND;VALUE=DATE:20260516
LOCATION:Downtown Salisbury
DESCRIPTION:More info: https://s3.amazonaws.com/bb-cms/AppData/Websites/1180/www.thehubsby.com\nActiveBury: https://www.activebury.com/events/1213
URL:https://www.activebury.com/events/1213
END:VEVENT
END:VCALENDAR
