BEGIN:VCALENDAR
VERSION:2.0
PRODID:-//ActiveBury//Events//EN
CALSCALE:GREGORIAN
BEGIN:VEVENT
UID:event-1212@activebury.com
DTSTAMP:20260425T134003Z
SUMMARY:Paint Your Pet® Portrait - Salisbury
DTSTART;VALUE=DATE:20260421
DTEND;VALUE=DATE:20260422
LOCATION:Downtown Salisbury
DESCRIPTION:More info: https://www.tcstudios.org/events/roadiejoes42126\nActiveBury: https://www.activebury.com/events/1212
URL:https://www.activebury.com/events/1212
END:VEVENT
END:VCALENDAR
