BEGIN:VCALENDAR
VERSION:2.0
PRODID:-//ActiveBury//Events//EN
CALSCALE:GREGORIAN
BEGIN:VEVENT
UID:event-1211@activebury.com
DTSTAMP:20260425T134006Z
SUMMARY:The Hub SBY - Mastering Networking (Hosted by Jordan Ray)
DTSTART;VALUE=DATE:20260414
DTEND;VALUE=DATE:20260415
LOCATION:Downtown Salisbury
DESCRIPTION:More info: https://s3.amazonaws.com/bb-cms/AppData/Websites/1180/www.thehubsby.com\nActiveBury: https://www.activebury.com/events/1211
URL:https://www.activebury.com/events/1211
END:VEVENT
END:VCALENDAR
