BEGIN:VCALENDAR
VERSION:2.0
PRODID:-//ActiveBury//Events//EN
CALSCALE:GREGORIAN
BEGIN:VEVENT
UID:event-1210@activebury.com
DTSTAMP:20260425T133954Z
SUMMARY:The Hub SBY - The Power of Lighting in Film Production
DTSTART;VALUE=DATE:20260410
DTEND;VALUE=DATE:20260411
LOCATION:Downtown Salisbury
DESCRIPTION:More info: https://s3.amazonaws.com/bb-cms/AppData/Websites/1180/www.thehubsby.com\nActiveBury: https://www.activebury.com/events/1210
URL:https://www.activebury.com/events/1210
END:VEVENT
END:VCALENDAR
