BEGIN:VCALENDAR
VERSION:2.0
PRODID:-//ActiveBury//Events//EN
CALSCALE:GREGORIAN
BEGIN:VEVENT
UID:event-1209@activebury.com
DTSTAMP:20260425T133847Z
SUMMARY:OC Art League Bus Trip to Smithsonian American Art Museum
DTSTART;VALUE=DATE:20260330
DTEND;VALUE=DATE:20260331
LOCATION:Downtown Salisbury
DESCRIPTION:More info: https://artleagueofoceancity.org/event/bus-trip-to-smithsonian-american-art-museum/\nActiveBury: https://www.activebury.com/events/1209
URL:https://www.activebury.com/events/1209
END:VEVENT
END:VCALENDAR
