BEGIN:VCALENDAR
VERSION:2.0
PRODID:-//ActiveBury//Events//EN
CALSCALE:GREGORIAN
BEGIN:VEVENT
UID:event-1208@activebury.com
DTSTAMP:20260425T182843Z
SUMMARY:The Hub SBY - Introduction to Podcasting
DTSTART;VALUE=DATE:20260321
DTEND;VALUE=DATE:20260322
LOCATION:Downtown Salisbury
DESCRIPTION:More info: https://s3.amazonaws.com/bb-cms/AppData/Websites/1180/www.thehubsby.com\nActiveBury: https://www.activebury.com/events/1208
URL:https://www.activebury.com/events/1208
END:VEVENT
END:VCALENDAR
