BEGIN:VCALENDAR
VERSION:2.0
PRODID:-//ActiveBury//Events//EN
CALSCALE:GREGORIAN
BEGIN:VEVENT
UID:event-1207@activebury.com
DTSTAMP:20260425T134537Z
SUMMARY:The Hub SBY - After Hours Live Music Session
DTSTART:20260314T190000
LOCATION:The Hub SBY 100 E Main St. Unit 502
DESCRIPTION:Doors open at 6pm. Performance lineup is Garden of Eden\, EHKS and Endless EMber!\nMore info: www.thehubsby.com\nActiveBury: https://www.activebury.com/events/1207
URL:https://www.activebury.com/events/1207
END:VEVENT
END:VCALENDAR
