BEGIN:VCALENDAR
VERSION:2.0
PRODID:-//ActiveBury//Events//EN
CALSCALE:GREGORIAN
BEGIN:VEVENT
UID:event-1206@activebury.com
DTSTAMP:20260425T134420Z
SUMMARY:Salisbury Zoo Eastern Jeep Hop
DTSTART:20260328T130000
DTEND:20260328T160000
LOCATION:Downtown Salisbury
DESCRIPTION:In Partnership with Delmarva Jeep Events the Salisbury Zoo invites you to Hop into spring with a NEW FREE fun-filled\, family-friendly Easter event. The afternoon will consist of festive activities\, exciting Jeep displays\, and chances to win amazing prizes all while fundraising for a great cause!\n\nEvent Highlights:\n\nJeep Decorating Contest – Check out creative\, Easter-themed Jeeps showcased inside the zoo!\n\nEaster Egg Fundraiser – Make a $5 donation to receive a prize-filled Easter egg\, some of which will contain winning raffle tickets for even bigger prizes! Use your egg vote for your favorite decorated jeep.\nMore info: https://salisburyzoo.org/easter-jeep-hop/\nActiveBury: https://www.activebury.com/events/1206
URL:https://www.activebury.com/events/1206
END:VEVENT
END:VCALENDAR
