BEGIN:VCALENDAR
VERSION:2.0
PRODID:-//ActiveBury//Events//EN
CALSCALE:GREGORIAN
BEGIN:VEVENT
UID:event-1205@activebury.com
DTSTAMP:20260425T133956Z
SUMMARY:Beat your other half in a pole fitness class
DTSTART;VALUE=DATE:20260222
DTEND;VALUE=DATE:20260223
LOCATION:Downtown Salisbury
DESCRIPTION:More info: https://www.pole-dance-paradise.com/\nActiveBury: https://www.activebury.com/events/1205
URL:https://www.activebury.com/events/1205
END:VEVENT
END:VCALENDAR
