BEGIN:VCALENDAR
VERSION:2.0
PRODID:-//ActiveBury//Events//EN
CALSCALE:GREGORIAN
BEGIN:VEVENT
UID:event-1204@activebury.com
DTSTAMP:20260425T142334Z
SUMMARY:The Hub SBY - Lights\, Camera\, Action Workshop
DTSTART;VALUE=DATE:20260221
DTEND;VALUE=DATE:20260222
LOCATION:Downtown Salisbury
DESCRIPTION:More info: https://s3.amazonaws.com/bb-cms/AppData/Websites/1180/www.thehubsby.com\nActiveBury: https://www.activebury.com/events/1204
URL:https://www.activebury.com/events/1204
END:VEVENT
END:VCALENDAR
