BEGIN:VCALENDAR
VERSION:2.0
PRODID:-//ActiveBury//Events//EN
CALSCALE:GREGORIAN
BEGIN:VEVENT
UID:event-1203@activebury.com
DTSTAMP:20260425T134530Z
SUMMARY:The Hub SBY - Introduction to Voice Performance
DTSTART;VALUE=DATE:20260218
DTEND;VALUE=DATE:20260219
LOCATION:Downtown Salisbury
DESCRIPTION:More info: https://s3.amazonaws.com/bb-cms/AppData/Websites/1180/www.thehubsby.com\nActiveBury: https://www.activebury.com/events/1203
URL:https://www.activebury.com/events/1203
END:VEVENT
END:VCALENDAR
