BEGIN:VCALENDAR
VERSION:2.0
PRODID:-//ActiveBury//Events//EN
CALSCALE:GREGORIAN
BEGIN:VEVENT
UID:event-1202@activebury.com
DTSTAMP:20260425T133827Z
SUMMARY:The Hub SBY - Jam Session Vol. 1
DTSTART;VALUE=DATE:20260213
DTEND;VALUE=DATE:20260214
LOCATION:Downtown Salisbury
DESCRIPTION:More info: https://s3.amazonaws.com/bb-cms/AppData/Websites/1180/www.thehubsby.com/events\nActiveBury: https://www.activebury.com/events/1202
URL:https://www.activebury.com/events/1202
END:VEVENT
END:VCALENDAR
