BEGIN:VCALENDAR
VERSION:2.0
PRODID:-//ActiveBury//Events//EN
CALSCALE:GREGORIAN
BEGIN:VEVENT
UID:event-1201@activebury.com
DTSTAMP:20260425T133845Z
SUMMARY:Sip & Shine - Galentine's Jewelry bar experience
DTSTART;VALUE=DATE:20260207
DTEND;VALUE=DATE:20260208
LOCATION:Downtown Salisbury
DESCRIPTION:More info: https://www.facebook.com/share/1BBnjC27ro/\nActiveBury: https://www.activebury.com/events/1201
URL:https://www.activebury.com/events/1201
END:VEVENT
END:VCALENDAR
