BEGIN:VCALENDAR
VERSION:2.0
PRODID:-//ActiveBury//Events//EN
CALSCALE:GREGORIAN
BEGIN:VEVENT
UID:event-1200@activebury.com
DTSTAMP:20260425T133414Z
SUMMARY:College Pole Class
DTSTART;VALUE=DATE:20260131
DTEND;VALUE=DATE:20260201
LOCATION:Downtown Salisbury
DESCRIPTION:More info: https://www.pole-dance-paradise.com/\nActiveBury: https://www.activebury.com/events/1200
URL:https://www.activebury.com/events/1200
END:VEVENT
END:VCALENDAR
