BEGIN:VCALENDAR
VERSION:2.0
PRODID:-//ActiveBury//Events//EN
CALSCALE:GREGORIAN
BEGIN:VEVENT
UID:event-1199@activebury.com
DTSTAMP:20260425T134536Z
SUMMARY:Coco Funhouse Autism Family Fun Day
DTSTART;VALUE=DATE:20260118
DTEND;VALUE=DATE:20260119
LOCATION:Downtown Salisbury
DESCRIPTION:More info: https://cocosfun.com/\nActiveBury: https://www.activebury.com/events/1199
URL:https://www.activebury.com/events/1199
END:VEVENT
END:VCALENDAR
