BEGIN:VCALENDAR
VERSION:2.0
PRODID:-//ActiveBury//Events//EN
CALSCALE:GREGORIAN
BEGIN:VEVENT
UID:event-1198@activebury.com
DTSTAMP:20260425T133943Z
SUMMARY:Brick Row Market Matcha Workshop
DTSTART;VALUE=DATE:20260118
DTEND;VALUE=DATE:20260119
LOCATION:Downtown Salisbury
DESCRIPTION:More info: https://www.instagram.com/brickrowmarket\nActiveBury: https://www.activebury.com/events/1198
URL:https://www.activebury.com/events/1198
END:VEVENT
END:VCALENDAR
