BEGIN:VCALENDAR
VERSION:2.0
PRODID:-//ActiveBury//Events//EN
CALSCALE:GREGORIAN
BEGIN:VEVENT
UID:event-1197@activebury.com
DTSTAMP:20260425T133417Z
SUMMARY:Matt Lafferty
DTSTART:20260531T140000
DTEND:20260531T170000
LOCATION:Bordeleau Vineyard & Winery\, 3155 Noble Farm Road\, Eden\, MD 21822
DESCRIPTION:Join us for a lively performance by Tin Pan Alley on April 25\, 2026\, from 2:00 PM to 5:00 PM at Bordeleau Vineyard & Winery. Enjoy great music in our beautiful tasting room!\nMore info: https://www.bordeleauwine.com/events\nActiveBury: https://www.activebury.com/events/1197
URL:https://www.activebury.com/events/1197
END:VEVENT
END:VCALENDAR
