BEGIN:VCALENDAR
VERSION:2.0
PRODID:-//ActiveBury//Events//EN
CALSCALE:GREGORIAN
BEGIN:VEVENT
UID:event-1196@activebury.com
DTSTAMP:20260425T133425Z
SUMMARY:Endless Ember
DTSTART:20260530T140000
DTEND:20260530T170000
LOCATION:Bordeleau Vineyard & Winery\, 3155 Noble Farm Road\, Eden\, MD 21822
DESCRIPTION:Join us for the Tin Pan Alley event at Bordeleau Vineyard & Winery. Enjoy live music and a wonderful atmosphere.\nMore info: https://www.bordeleauwine.com/events\nActiveBury: https://www.activebury.com/events/1196
URL:https://www.activebury.com/events/1196
END:VEVENT
END:VCALENDAR
