BEGIN:VCALENDAR
VERSION:2.0
PRODID:-//ActiveBury//Events//EN
CALSCALE:GREGORIAN
BEGIN:VEVENT
UID:event-1195@activebury.com
DTSTAMP:20260425T134009Z
SUMMARY:Baltimore Steel Drum Orchestra
DTSTART:20260524T130000
DTEND:20260524T160000
LOCATION:Bordeleau Vineyard & Winery\, 3155 Noble Farm Road\, Eden\, MD 21822
DESCRIPTION:Join us for a special Mother's Day Celebration at Bordeleau Vineyard & Winery featuring various festivities throughout the day.\nMore info: https://www.bordeleauwine.com/events\nActiveBury: https://www.activebury.com/events/1195
URL:https://www.activebury.com/events/1195
END:VEVENT
END:VCALENDAR
