BEGIN:VCALENDAR
VERSION:2.0
PRODID:-//ActiveBury//Events//EN
CALSCALE:GREGORIAN
BEGIN:VEVENT
UID:event-1192@activebury.com
DTSTAMP:20260425T133311Z
SUMMARY:Joey Fulkerson
DTSTART:20260516T140000
DTEND:20260516T170000
LOCATION:Bordeleau Vineyard & Winery\, 3155 Noble Farm Road\, Eden\, MD 21822
DESCRIPTION:Join us for a special Mother's Day Celebration featuring various activities and offerings for moms.\nMore info: https://www.bordeleauwine.com/events\nActiveBury: https://www.activebury.com/events/1192
URL:https://www.activebury.com/events/1192
END:VEVENT
END:VCALENDAR
