BEGIN:VCALENDAR
VERSION:2.0
PRODID:-//ActiveBury//Events//EN
CALSCALE:GREGORIAN
BEGIN:VEVENT
UID:event-1191@activebury.com
DTSTAMP:20260425T134007Z
SUMMARY:Margot & Valerie
DTSTART:20260510T140000
DTEND:20260510T170000
LOCATION:Bordeleau Vineyard & Winery\, 3155 Noble Farm Road\, Eden\, MD 21822
DESCRIPTION:Celebrate Mother's Day with various activities including a charcuterie workshop from 1:00 to 3:00 PM and live music. Join us for a memorable day at the winery.\nMore info: https://www.bordeleauwine.com/events\nActiveBury: https://www.activebury.com/events/1191
URL:https://www.activebury.com/events/1191
END:VEVENT
END:VCALENDAR
