BEGIN:VCALENDAR
VERSION:2.0
PRODID:-//ActiveBury//Events//EN
CALSCALE:GREGORIAN
BEGIN:VEVENT
UID:event-1190@activebury.com
DTSTAMP:20260425T133422Z
SUMMARY:Bilenki Duo
DTSTART:20260509T140000
DTEND:20260509T170000
LOCATION:Bordeleau Vineyard & Winery\, 3155 Noble Farm Road\, Eden\, MD 21822
DESCRIPTION:Enjoy live music with Tin Pan Alley at Bordeleau Vineyard & Winery. Experience an afternoon of great tunes and fine wine.\nMore info: https://www.bordeleauwine.com/events\nActiveBury: https://www.activebury.com/events/1190
URL:https://www.activebury.com/events/1190
END:VEVENT
END:VCALENDAR
