BEGIN:VCALENDAR
VERSION:2.0
PRODID:-//ActiveBury//Events//EN
CALSCALE:GREGORIAN
BEGIN:VEVENT
UID:event-1189@activebury.com
DTSTAMP:20260425T133330Z
SUMMARY:Ryan Jackson
DTSTART:20260503T140000
DTEND:20260503T170000
LOCATION:Bordeleau Vineyard & Winery\, 3155 Noble Farm Road\, Eden\, MD 21822
DESCRIPTION:Join us for a performance by Tin Pan Alley on April 25\, 2026\, from 2:00 to 5:00 PM at Bordeleau Vineyard & Winery.\nMore info: https://www.bordeleauwine.com/events\nActiveBury: https://www.activebury.com/events/1189
URL:https://www.activebury.com/events/1189
END:VEVENT
END:VCALENDAR
