BEGIN:VCALENDAR
VERSION:2.0
PRODID:-//ActiveBury//Events//EN
CALSCALE:GREGORIAN
BEGIN:VEVENT
UID:event-1187@activebury.com
DTSTAMP:20260425T133431Z
SUMMARY:Brittany & Tyler
DTSTART:20260419T130000
DTEND:20260419T160000
LOCATION:Bordeleau Vineyard & Winery\, 3155 Noble Farm Road\, Eden\, MD 21822
DESCRIPTION:More info: https://www.bordeleauwine.com/events\nActiveBury: https://www.activebury.com/events/1187
URL:https://www.activebury.com/events/1187
END:VEVENT
END:VCALENDAR
