BEGIN:VCALENDAR
VERSION:2.0
PRODID:-//ActiveBury//Events//EN
CALSCALE:GREGORIAN
BEGIN:VEVENT
UID:event-1184@activebury.com
DTSTAMP:20260425T133425Z
SUMMARY:Such Fools
DTSTART:20260404T130000
DTEND:20260404T160000
LOCATION:Bordeleau Vineyard & Winery\, 3155 Noble Farm Road\, Eden\, MD 21822
DESCRIPTION:More info: https://www.bordeleauwine.com/events\nActiveBury: https://www.activebury.com/events/1184
URL:https://www.activebury.com/events/1184
END:VEVENT
END:VCALENDAR
