BEGIN:VCALENDAR
VERSION:2.0
PRODID:-//ActiveBury//Events//EN
CALSCALE:GREGORIAN
BEGIN:VEVENT
UID:event-1183@activebury.com
DTSTAMP:20260425T133947Z
SUMMARY:Annual Chili Cook Off & Festival
DTSTART:20260404T110000
DTEND:20260404T170000
LOCATION:Bordeleau Vineyard & Winery\, 3155 Noble Farm Road\, Eden\, MD 21822
DESCRIPTION:More info: https://www.bordeleauwine.com/events\nActiveBury: https://www.activebury.com/events/1183
URL:https://www.activebury.com/events/1183
END:VEVENT
END:VCALENDAR
