BEGIN:VCALENDAR
VERSION:2.0
PRODID:-//ActiveBury//Events//EN
CALSCALE:GREGORIAN
BEGIN:VEVENT
UID:event-1182@activebury.com
DTSTAMP:20260425T133416Z
SUMMARY:Endless Ember
DTSTART:20260329T130000
DTEND:20260329T160000
LOCATION:Bordeleau Vineyard & Winery\, 3155 Noble Farm Road\, Eden\, MD 21822
DESCRIPTION:More info: https://www.bordeleauwine.com/events\nActiveBury: https://www.activebury.com/events/1182
URL:https://www.activebury.com/events/1182
END:VEVENT
END:VCALENDAR
