BEGIN:VCALENDAR
VERSION:2.0
PRODID:-//ActiveBury//Events//EN
CALSCALE:GREGORIAN
BEGIN:VEVENT
UID:event-1180@activebury.com
DTSTAMP:20260425T133430Z
SUMMARY:Carley Twigg
DTSTART:20260322T130000
DTEND:20260322T160000
LOCATION:Bordeleau Vineyard & Winery\, 3155 Noble Farm Road\, Eden\, MD 21822
DESCRIPTION:More info: https://www.bordeleauwine.com/events\nActiveBury: https://www.activebury.com/events/1180
URL:https://www.activebury.com/events/1180
END:VEVENT
END:VCALENDAR
