BEGIN:VCALENDAR
VERSION:2.0
PRODID:-//ActiveBury//Events//EN
CALSCALE:GREGORIAN
BEGIN:VEVENT
UID:event-1179@activebury.com
DTSTAMP:20260425T133947Z
SUMMARY:Joey Fulkerson
DTSTART:20260321T140000
DTEND:20260321T170000
LOCATION:Bordeleau Vineyard & Winery\, 3155 Noble Farm Road\, Eden\, MD 21822
DESCRIPTION:More info: https://www.bordeleauwine.com/events\nActiveBury: https://www.activebury.com/events/1179
URL:https://www.activebury.com/events/1179
END:VEVENT
END:VCALENDAR
