BEGIN:VCALENDAR
VERSION:2.0
PRODID:-//ActiveBury//Events//EN
CALSCALE:GREGORIAN
BEGIN:VEVENT
UID:event-1178@activebury.com
DTSTAMP:20260425T133436Z
SUMMARY:Whiskey Graves
DTSTART:20260315T130000
DTEND:20260315T160000
LOCATION:Bordeleau Vineyard & Winery\, 3155 Noble Farm Road\, Eden\, MD 21822
DESCRIPTION:More info: https://www.bordeleauwine.com/events\nActiveBury: https://www.activebury.com/events/1178
URL:https://www.activebury.com/events/1178
END:VEVENT
END:VCALENDAR
