BEGIN:VCALENDAR
VERSION:2.0
PRODID:-//ActiveBury//Events//EN
CALSCALE:GREGORIAN
BEGIN:VEVENT
UID:event-1177@activebury.com
DTSTAMP:20260425T133428Z
SUMMARY:Ryan Jackson
DTSTART:20260314T140000
DTEND:20260314T170000
LOCATION:Bordeleau Vineyard & Winery\, 3155 Noble Farm Road\, Eden\, MD 21822
DESCRIPTION:More info: https://www.bordeleauwine.com/events\nActiveBury: https://www.activebury.com/events/1177
URL:https://www.activebury.com/events/1177
END:VEVENT
END:VCALENDAR
